BEGIN:VCALENDAR
VERSION:2.0
PRODID:-//ChamberMaster//Event Calendar 2.0//EN
METHOD:PUBLISH
X-PUBLISHED-TTL:P3D
REFRESH-INTERVAL:P3D
CALSCALE:GREGORIAN
BEGIN:VEVENT
DTSTART:20180430T003000Z
DTEND:20180430T023000Z
X-MICROSOFT-CDO-ALLDAYEVENT:FALSE
SUMMARY:Artist Reception - Art Extravaganza
DESCRIPTION:Join us for our artist reception at Springhill Suites. Meet our artists and enjoy refreshments provided by Springhill Suites. Bid on silent auction items. And check out the art!
X-ALT-DESC;FMTTYPE=text/html:Join us for our artist reception at Springhill Suites. Meet our artists and enjoy refreshments provided by Springhill Suites. Bid on silent auction items. And check out the art!
LOCATION:Springhill Suites Marriott Napa Valley 101 Gateway Road\, Napa County Airport
UID:e.2410.2364
SEQUENCE:3
DTSTAMP:20260425T181623Z
URL:http://visit.amcanchamber.org/events/details/artist-reception-art-extravaganza-2364
END:VEVENT

END:VCALENDAR
