BEGIN:VCALENDAR
VERSION:2.0
PRODID:-//ChamberMaster//Event Calendar 2.0//EN
METHOD:PUBLISH
X-PUBLISHED-TTL:P3D
REFRESH-INTERVAL:P3D
CALSCALE:GREGORIAN
BEGIN:VEVENT
DTSTART:20180208T010000Z
DTEND:20180208T020000Z
X-MICROSOFT-CDO-ALLDAYEVENT:FALSE
SUMMARY:Ambassador Meeting
DESCRIPTION:
X-ALT-DESC;FMTTYPE=text/html:
LOCATION:American Canyon Welcome Center 3860 Broadway\, St 103 American Canyon
UID:e.2410.1416
SEQUENCE:3
DTSTAMP:20260425T210758Z
URL:http://visit.amcanchamber.org/events/details/ambassador-meeting-1416
END:VEVENT

END:VCALENDAR
