BEGIN:VCALENDAR
VERSION:2.0
PRODID:-//ChamberMaster//Event Calendar 2.0//EN
METHOD:PUBLISH
X-PUBLISHED-TTL:P3D
REFRESH-INTERVAL:P3D
CALSCALE:GREGORIAN
BEGIN:VEVENT
DTSTART:20171202T160000Z
DTEND:20171202T190000Z
X-MICROSOFT-CDO-ALLDAYEVENT:FALSE
SUMMARY:7th Annual Reindeer Run
DESCRIPTION:Come celebrate the spirit of the season by participating in the 7th Annual Reindeer Run on Saturday\, December 2\, 2017. This family-friendly 3 mile and 6.5 mile run at Thompson's Trail at Wetlands Edge View Area Trailhead\, and benefits KHOPE International\, a local non-profit supporting women and children living in poverty here and abroad. Registration includes t-shirts for all participants. Pre-registration guarantees your size. (size and availability will be limited the day of the event) Don't miss out on all the fun!!!
X-ALT-DESC;FMTTYPE=text/html:<span style="color: rgb(102\, 102\, 102)\; font-family: &quot\;Helvetica Neue&quot\;\, Helvetica\, Arial\, sans-serif\; font-size: 13px\; background-color: rgb(255\, 255\, 255)\;">Come celebrate the spirit of the season by participating in the 7th Annual Reindeer Run on Saturday\, December 2\, 2017. This family-friendly 3 mile and 6.5 mile run at Thompson&#39\;s Trail at Wetlands Edge View Area Trailhead\, and benefits KHOPE International\, a local non-profit supporting women and children living in poverty here and abroad. Registration includes t-shirts for all participants. Pre-registration guarantees your size. (size and availability will be limited the day of the event) Don&#39\;t miss out on all the fun!!!</span><br />\n<br />\n&nbsp\;
LOCATION:Corner of Wetlands Edge Rd / Eucalyptus American Canyon
UID:e.2410.1397
SEQUENCE:3
DTSTAMP:20260426T001323Z
URL:http://visit.amcanchamber.org/events/details/7th-annual-reindeer-run-1397
END:VEVENT

END:VCALENDAR
