BEGIN:VCALENDAR
VERSION:2.0
PRODID:-//ChamberMaster//Event Calendar 2.0//EN
METHOD:PUBLISH
X-PUBLISHED-TTL:P3D
REFRESH-INTERVAL:P3D
CALSCALE:GREGORIAN
BEGIN:VEVENT
DTSTART:20180915T230000Z
DTEND:20180916T020000Z
X-MICROSOFT-CDO-ALLDAYEVENT:FALSE
SUMMARY:2018 Tastings on The Lawn
DESCRIPTION:Join fellow wine and food enthusiasts at Charles Krug's signature event. Enjoy an array of Italian-inspired food\, live music and delicious wines on our stunning Great Lawn. Gather your friends and enjoy the best harvest party in Napa Valley! 21+ Event
X-ALT-DESC;FMTTYPE=text/html:Join fellow wine and food enthusiasts at Charles Krug&#39\;s signature event. Enjoy an array of Italian-inspired food\, live music and delicious wines on our stunning Great Lawn. Gather your friends and enjoy the best harvest party in Napa Valley! 21+ Event
LOCATION:2800 Main Street St. Helena\, CA. 94574
UID:e.2410.2408
SEQUENCE:3
DTSTAMP:20260425T104901Z
URL:http://visit.amcanchamber.org/events/details/2018-tastings-on-the-lawn-2408
END:VEVENT

END:VCALENDAR
